BEGIN:VCALENDAR
VERSION:2.0
PRODID:-//Troop 73 - ECPv6.14.2//NONSGML v1.0//EN
CALSCALE:GREGORIAN
METHOD:PUBLISH
X-WR-CALNAME:Troop 73
X-ORIGINAL-URL:https://www.troop73southaven.org
X-WR-CALDESC:Events for Troop 73
REFRESH-INTERVAL;VALUE=DURATION:PT1H
X-Robots-Tag:noindex
X-PUBLISHED-TTL:PT1H
BEGIN:VTIMEZONE
TZID:America/Chicago
BEGIN:DAYLIGHT
TZOFFSETFROM:-0600
TZOFFSETTO:-0500
TZNAME:CDT
DTSTART:20230312T080000
END:DAYLIGHT
BEGIN:STANDARD
TZOFFSETFROM:-0500
TZOFFSETTO:-0600
TZNAME:CST
DTSTART:20231105T070000
END:STANDARD
END:VTIMEZONE
BEGIN:VEVENT
DTSTART;TZID=America/Chicago:20230303T170000
DTEND;TZID=America/Chicago:20230305T130000
DTSTAMP:20260416T152153
CREATED:20230118T031916Z
LAST-MODIFIED:20230118T032014Z
UID:676-1677862800-1678021200@www.troop73southaven.org
SUMMARY:March Campout
DESCRIPTION:
URL:https://www.troop73southaven.org/event/march-campout/
CATEGORIES:Campout
END:VEVENT
BEGIN:VEVENT
DTSTART;TZID=America/Chicago:20230306T190000
DTEND;TZID=America/Chicago:20230306T200000
DTSTAMP:20260416T152153
CREATED:20221229T022305Z
LAST-MODIFIED:20221229T022306Z
UID:656-1678129200-1678132800@www.troop73southaven.org
SUMMARY:Troop Meeting
DESCRIPTION:
URL:https://www.troop73southaven.org/event/troop-meeting-12/
LOCATION:St. Timothy’s Episcopal Church\, 8245 Getwell Rd\, Southaven\, MS\, 38672\, United States
END:VEVENT
BEGIN:VEVENT
DTSTART;TZID=America/Chicago:20230313T000000
DTEND;TZID=America/Chicago:20230313T235959
DTSTAMP:20260416T152153
CREATED:20221229T022554Z
LAST-MODIFIED:20221229T022554Z
UID:658-1678665600-1678751999@www.troop73southaven.org
SUMMARY:No Troop Meeting - Spring Break
DESCRIPTION:
URL:https://www.troop73southaven.org/event/no-troop-meeting-spring-break/
CATEGORIES:No Meeting
END:VEVENT
BEGIN:VEVENT
DTSTART;TZID=America/Chicago:20230320T190000
DTEND;TZID=America/Chicago:20230320T200000
DTSTAMP:20260416T152153
CREATED:20221229T022721Z
LAST-MODIFIED:20221229T022722Z
UID:661-1679338800-1679342400@www.troop73southaven.org
SUMMARY:Troop Meeting
DESCRIPTION:
URL:https://www.troop73southaven.org/event/troop-meeting-13/
LOCATION:St. Timothy’s Episcopal Church\, 8245 Getwell Rd\, Southaven\, MS\, 38672\, United States
END:VEVENT
BEGIN:VEVENT
DTSTART;TZID=America/Chicago:20230327T190000
DTEND;TZID=America/Chicago:20230327T200000
DTSTAMP:20260416T152153
CREATED:20221229T022815Z
LAST-MODIFIED:20221229T022816Z
UID:663-1679943600-1679947200@www.troop73southaven.org
SUMMARY:Troop Meeting
DESCRIPTION:
URL:https://www.troop73southaven.org/event/troop-meeting-14/
LOCATION:St. Timothy’s Episcopal Church\, 8245 Getwell Rd\, Southaven\, MS\, 38672\, United States
END:VEVENT
END:VCALENDAR