BEGIN:VCALENDAR
VERSION:2.0
PRODID:-//Troop 73 - ECPv6.14.2//NONSGML v1.0//EN
CALSCALE:GREGORIAN
METHOD:PUBLISH
X-ORIGINAL-URL:https://www.troop73southaven.org
X-WR-CALDESC:Events for Troop 73
REFRESH-INTERVAL;VALUE=DURATION:PT1H
X-Robots-Tag:noindex
X-PUBLISHED-TTL:PT1H
BEGIN:VTIMEZONE
TZID:America/Chicago
BEGIN:DAYLIGHT
TZOFFSETFROM:-0600
TZOFFSETTO:-0500
TZNAME:CDT
DTSTART:20230312T080000
END:DAYLIGHT
BEGIN:STANDARD
TZOFFSETFROM:-0500
TZOFFSETTO:-0600
TZNAME:CST
DTSTART:20231105T070000
END:STANDARD
END:VTIMEZONE
BEGIN:VEVENT
DTSTART;VALUE=DATE:20230102
DTEND;VALUE=DATE:20230103
DTSTAMP:20260416T071854
CREATED:20221005T032936Z
LAST-MODIFIED:20221229T022415Z
UID:484-1672617600-1672703999@www.troop73southaven.org
SUMMARY:No Troop Meeting - Christmas Holidays
DESCRIPTION:
URL:https://www.troop73southaven.org/event/no-troop-meeting-christmas-holidays-3/
CATEGORIES:School Holiday
END:VEVENT
BEGIN:VEVENT
DTSTART;TZID=America/Chicago:20230106T180000
DTEND;TZID=America/Chicago:20230107T170000
DTSTAMP:20260416T071854
CREATED:20221005T033224Z
LAST-MODIFIED:20221005T033224Z
UID:488-1673028000-1673110800@www.troop73southaven.org
SUMMARY:Delta State Merit Badge College
DESCRIPTION:
URL:https://www.troop73southaven.org/event/delta-state-merit-badge-college/
LOCATION:Delta State University\, 1003 W Sunflower Rd\, Cleveland\, MS\, 38733\, United States
END:VEVENT
BEGIN:VEVENT
DTSTART;TZID=America/Chicago:20230109T190000
DTEND;TZID=America/Chicago:20230109T200000
DTSTAMP:20260416T071854
CREATED:20221005T033009Z
LAST-MODIFIED:20221005T033009Z
UID:486-1673290800-1673294400@www.troop73southaven.org
SUMMARY:Troop Meeting
DESCRIPTION:
URL:https://www.troop73southaven.org/event/troop-meeting-5/
LOCATION:St. Timothy’s Episcopal Church\, 8245 Getwell Rd\, Southaven\, MS\, 38672\, United States
CATEGORIES:Troop Meeting
END:VEVENT
BEGIN:VEVENT
DTSTART;TZID=America/Chicago:20230123T190000
DTEND;TZID=America/Chicago:20230123T200000
DTSTAMP:20260416T071854
CREATED:20221005T033809Z
LAST-MODIFIED:20221005T033809Z
UID:495-1674500400-1674504000@www.troop73southaven.org
SUMMARY:Troop Meeting
DESCRIPTION:
URL:https://www.troop73southaven.org/event/troop-meeting-7/
LOCATION:St. Timothy’s Episcopal Church\, 8245 Getwell Rd\, Southaven\, MS\, 38672\, United States
CATEGORIES:Troop Meeting
END:VEVENT
BEGIN:VEVENT
DTSTART;TZID=America/Chicago:20230130T190000
DTEND;TZID=America/Chicago:20230130T200000
DTSTAMP:20260416T071854
CREATED:20221005T033855Z
LAST-MODIFIED:20221005T033855Z
UID:497-1675105200-1675108800@www.troop73southaven.org
SUMMARY:Troop Meeting
DESCRIPTION:
URL:https://www.troop73southaven.org/event/troop-meeting-8/
LOCATION:St. Timothy’s Episcopal Church\, 8245 Getwell Rd\, Southaven\, MS\, 38672\, United States
END:VEVENT
END:VCALENDAR