BEGIN:VCALENDAR
VERSION:2.0
PRODID:-//Troop 73 - ECPv6.14.2//NONSGML v1.0//EN
CALSCALE:GREGORIAN
METHOD:PUBLISH
X-WR-CALNAME:Troop 73
X-ORIGINAL-URL:https://www.troop73southaven.org
X-WR-CALDESC:Events for Troop 73
REFRESH-INTERVAL;VALUE=DURATION:PT1H
X-Robots-Tag:noindex
X-PUBLISHED-TTL:PT1H
BEGIN:VTIMEZONE
TZID:America/Chicago
BEGIN:DAYLIGHT
TZOFFSETFROM:-0600
TZOFFSETTO:-0500
TZNAME:CDT
DTSTART:20220313T080000
END:DAYLIGHT
BEGIN:STANDARD
TZOFFSETFROM:-0500
TZOFFSETTO:-0600
TZNAME:CST
DTSTART:20221106T070000
END:STANDARD
END:VTIMEZONE
BEGIN:VEVENT
DTSTART;TZID=America/Chicago:20221107T183000
DTEND;TZID=America/Chicago:20221107T200000
DTSTAMP:20260420T230628
CREATED:20221005T005750Z
LAST-MODIFIED:20221005T024103Z
UID:454-1667845800-1667851200@www.troop73southaven.org
SUMMARY:Flag Retirement Ceremony
DESCRIPTION:Instead of our regular Troop meeting on 11/7 we have been invited to participate in a flag retirement ceremony in honor of Veteran’s Day with P190 & T1.
URL:https://www.troop73southaven.org/event/regular-troop-meeting-4/
LOCATION:Getwell Church\, 8245 Getwell Rd\, Southaven\, MS\, 38672\, United States
CATEGORIES:Special Event,Troop Meeting
END:VEVENT
END:VCALENDAR