BEGIN:VCALENDAR
VERSION:2.0
PRODID:-//Troop 73 - ECPv6.14.2//NONSGML v1.0//EN
CALSCALE:GREGORIAN
METHOD:PUBLISH
X-ORIGINAL-URL:https://www.troop73southaven.org
X-WR-CALDESC:Events for Troop 73
REFRESH-INTERVAL;VALUE=DURATION:PT1H
X-Robots-Tag:noindex
X-PUBLISHED-TTL:PT1H
BEGIN:VTIMEZONE
TZID:America/Chicago
BEGIN:DAYLIGHT
TZOFFSETFROM:-0600
TZOFFSETTO:-0500
TZNAME:CDT
DTSTART:20220313T080000
END:DAYLIGHT
BEGIN:STANDARD
TZOFFSETFROM:-0500
TZOFFSETTO:-0600
TZNAME:CST
DTSTART:20221106T070000
END:STANDARD
END:VTIMEZONE
BEGIN:VEVENT
DTSTART;TZID=America/Chicago:20221014T180000
DTEND;TZID=America/Chicago:20221016T090000
DTSTAMP:20260421T005051
CREATED:20221005T004325Z
LAST-MODIFIED:20221005T131722Z
UID:442-1665770400-1665910800@www.troop73southaven.org
SUMMARY:October Campout - Scout Skills
DESCRIPTION:
URL:https://www.troop73southaven.org/event/october-campout/
CATEGORIES:Campout
END:VEVENT
END:VCALENDAR